Package: CNViz Version: 1.19.0 Command: /Library/Frameworks/R.framework/Resources/bin/R CMD INSTALL CNViz StartedAt: 2025-11-13 15:25:24 -0500 (Thu, 13 Nov 2025) EndedAt: 2025-11-13 15:25:43 -0500 (Thu, 13 Nov 2025) EllapsedTime: 18.9 seconds RetCode: 0 Status: OK