Package: CNViz Version: 1.19.0 Command: rm -rf CNViz.buildbin-libdir && mkdir CNViz.buildbin-libdir && /Users/biocbuild/BBS/utils/build-universal.sh CNViz_1.19.0.tar.gz /Library/Frameworks/R.framework/Resources/bin/R CNViz.buildbin-libdir StartedAt: 2025-11-13 23:32:27 -0500 (Thu, 13 Nov 2025) EndedAt: 2025-11-13 23:32:51 -0500 (Thu, 13 Nov 2025) EllapsedTime: 23.5 seconds RetCode: 0 Status: OK PackageFile: CNViz_1.19.0.tgz PackageFileSize: 181.1 KiB