Package: CNVMetrics Version: 1.15.1 Command: /home/biocbuild/bbs-3.23-bioc/R/bin/R CMD INSTALL CNVMetrics StartedAt: 2025-11-11 16:02:35 -0500 (Tue, 11 Nov 2025) EndedAt: 2025-11-11 16:02:45 -0500 (Tue, 11 Nov 2025) EllapsedTime: 10.6 seconds RetCode: 0 Status: OK