Package: CNVMetrics Version: 1.15.1 Command: /home/biocbuild/bbs-3.23-bioc/R/bin/R CMD build --keep-empty-dirs --no-resave-data CNVMetrics StartedAt: 2025-11-13 16:53:02 -0500 (Thu, 13 Nov 2025) EndedAt: 2025-11-13 16:53:41 -0500 (Thu, 13 Nov 2025) EllapsedTime: 39.0 seconds RetCode: 0 Status: OK PackageFile: CNVMetrics_1.15.1.tar.gz PackageFileSize: 4.689 MiB