Package: CNVMetrics Version: 1.15.1 Command: /Library/Frameworks/R.framework/Resources/bin/R CMD INSTALL CNVMetrics StartedAt: 2025-11-13 15:33:35 -0500 (Thu, 13 Nov 2025) EndedAt: 2025-11-13 15:33:40 -0500 (Thu, 13 Nov 2025) EllapsedTime: 4.3 seconds RetCode: 0 Status: OK