Package: CNVMetrics Version: 1.15.1 Command: /Library/Frameworks/R.framework/Resources/bin/R CMD build --keep-empty-dirs --no-resave-data CNVMetrics StartedAt: 2025-11-13 15:59:54 -0500 (Thu, 13 Nov 2025) EndedAt: 2025-11-13 16:00:09 -0500 (Thu, 13 Nov 2025) EllapsedTime: 15.2 seconds RetCode: 0 Status: OK PackageFile: CNVMetrics_1.15.1.tar.gz PackageFileSize: 4.739 MiB