Package: CNVMetrics Version: 1.15.1 Command: rm -rf CNVMetrics.buildbin-libdir && mkdir CNVMetrics.buildbin-libdir && /Users/biocbuild/BBS/utils/build-universal.sh CNVMetrics_1.15.1.tar.gz /Library/Frameworks/R.framework/Resources/bin/R CNVMetrics.buildbin-libdir StartedAt: 2025-11-13 23:32:27 -0500 (Thu, 13 Nov 2025) EndedAt: 2025-11-13 23:32:34 -0500 (Thu, 13 Nov 2025) EllapsedTime: 6.2 seconds RetCode: 0 Status: OK PackageFile: CNVMetrics_1.15.1.tgz PackageFileSize: 2.75 MiB