Package: CNVMetrics Version: 1.15.1 Maintainer: Astrid DeschĂȘnes MaintainerEmail: adeschen at hotmail.com git_url: https://git.bioconductor.org/packages/CNVMetrics git_branch: devel git_last_commit: d592e3d git_last_commit_date: 2025-11-04 12:21:51 -0500 (Tue, 04 Nov 2025)