Package: CNTools Version: 1.67.0 Command: /home/biocbuild/bbs-3.23-bioc/R/bin/R CMD build --keep-empty-dirs --no-resave-data CNTools StartedAt: 2025-11-13 16:52:36 -0500 (Thu, 13 Nov 2025) EndedAt: 2025-11-13 16:53:02 -0500 (Thu, 13 Nov 2025) EllapsedTime: 26.0 seconds RetCode: 0 Status: OK PackageFile: CNTools_1.67.0.tar.gz PackageFileSize: 960 KiB