Package: CNTools Version: 1.67.0 Command: rm -rf CNTools.buildbin-libdir && mkdir CNTools.buildbin-libdir && /Users/biocbuild/BBS/utils/build-universal.sh CNTools_1.67.0.tar.gz /Library/Frameworks/R.framework/Resources/bin/R CNTools.buildbin-libdir StartedAt: 2025-11-13 23:32:26 -0500 (Thu, 13 Nov 2025) EndedAt: 2025-11-13 23:32:37 -0500 (Thu, 13 Nov 2025) EllapsedTime: 10.2 seconds RetCode: 0 Status: OK PackageFile: CNTools_1.67.0.tgz PackageFileSize: 1.189 MiB