Package: CNTools Version: 1.67.0 Maintainer: J. Zhang MaintainerEmail: jzhang at jimmy.harvard.edu git_url: https://git.bioconductor.org/packages/CNTools git_branch: devel git_last_commit: ed16efd git_last_commit_date: 2025-10-29 10:02:56 -0500 (Wed, 29 Oct 2025)