Package: CNORode Version: 1.53.0 Command: /home/biocbuild/bbs-3.23-bioc/R/bin/R CMD INSTALL CNORode StartedAt: 2025-11-11 15:42:00 -0500 (Tue, 11 Nov 2025) EndedAt: 2025-11-11 15:42:16 -0500 (Tue, 11 Nov 2025) EllapsedTime: 16.6 seconds RetCode: 0 Status: OK