Package: CNORode Version: 1.53.0 Command: /Library/Frameworks/R.framework/Resources/bin/R CMD INSTALL CNORode StartedAt: 2025-11-12 15:37:04 -0500 (Wed, 12 Nov 2025) EndedAt: 2025-11-12 15:37:12 -0500 (Wed, 12 Nov 2025) EllapsedTime: 7.5 seconds RetCode: 0 Status: OK