Package: CNORode Version: 1.53.0 Command: /Library/Frameworks/R.framework/Resources/bin/R CMD build --keep-empty-dirs --no-resave-data CNORode StartedAt: 2025-11-12 16:01:09 -0500 (Wed, 12 Nov 2025) EndedAt: 2025-11-12 16:01:22 -0500 (Wed, 12 Nov 2025) EllapsedTime: 13.2 seconds RetCode: 0 Status: OK PackageFile: CNORode_1.53.0.tar.gz PackageFileSize: 519.6 KiB