Package: CNORode Version: 1.53.0 Command: rm -rf CNORode.buildbin-libdir && mkdir CNORode.buildbin-libdir && /Users/biocbuild/BBS/utils/build-universal.sh CNORode_1.53.0.tar.gz /Library/Frameworks/R.framework/Resources/bin/R CNORode.buildbin-libdir StartedAt: 2025-11-12 20:54:29 -0500 (Wed, 12 Nov 2025) EndedAt: 2025-11-12 20:54:38 -0500 (Wed, 12 Nov 2025) EllapsedTime: 9.2 seconds RetCode: 0 Status: OK PackageFile: CNORode_1.53.0.tgz PackageFileSize: 439.8 KiB