Package: CNORode Version: 1.53.0 Maintainer: Attila Gabor MaintainerEmail: attila.gabor at uni-heidelberg.de git_url: https://git.bioconductor.org/packages/CNORode git_branch: devel git_last_commit: f01a564 git_last_commit_date: 2025-10-29 10:12:25 -0500 (Wed, 29 Oct 2025)