Package: CNORfuzzy Version: 1.53.0 Command: /home/biocbuild/bbs-3.23-bioc/R/bin/R CMD INSTALL CNORfuzzy StartedAt: 2025-11-13 15:15:55 -0500 (Thu, 13 Nov 2025) EndedAt: 2025-11-13 15:16:04 -0500 (Thu, 13 Nov 2025) EllapsedTime: 9.3 seconds RetCode: 0 Status: OK