Package: CNORfuzzy Version: 1.53.0 Command: /home/biocbuild/bbs-3.23-bioc/R/bin/R CMD check --install=check:CNORfuzzy.install-out.txt --library=/home/biocbuild/bbs-3.23-bioc/R/site-library --timings CNORfuzzy_1.53.0.tar.gz StartedAt: 2025-11-13 22:11:29 -0500 (Thu, 13 Nov 2025) EndedAt: 2025-11-13 22:12:49 -0500 (Thu, 13 Nov 2025) EllapsedTime: 80.1 seconds RetCode: 0 Status: OK CheckDir: CNORfuzzy.Rcheck Warnings: 0