Package: CNORfuzzy Version: 1.53.0 Command: /home/biocbuild/bbs-3.23-bioc/R/bin/R CMD build --keep-empty-dirs --no-resave-data CNORfuzzy StartedAt: 2025-11-13 16:52:28 -0500 (Thu, 13 Nov 2025) EndedAt: 2025-11-13 16:52:50 -0500 (Thu, 13 Nov 2025) EllapsedTime: 22.0 seconds RetCode: 0 Status: OK PackageFile: CNORfuzzy_1.53.0.tar.gz PackageFileSize: 922 KiB