Package: CNORfuzzy Version: 1.53.0 Command: /Library/Frameworks/R.framework/Resources/bin/R CMD INSTALL CNORfuzzy StartedAt: 2025-11-13 15:08:16 -0500 (Thu, 13 Nov 2025) EndedAt: 2025-11-13 15:08:20 -0500 (Thu, 13 Nov 2025) EllapsedTime: 4.2 seconds RetCode: 0 Status: OK