Package: CNORfuzzy Version: 1.53.0 Command: /Library/Frameworks/R.framework/Resources/bin/R CMD check --install=check:CNORfuzzy.install-out.txt --library=/Library/Frameworks/R.framework/Resources/library --no-vignettes --timings CNORfuzzy_1.53.0.tar.gz StartedAt: 2025-11-13 19:09:37 -0500 (Thu, 13 Nov 2025) EndedAt: 2025-11-13 19:10:14 -0500 (Thu, 13 Nov 2025) EllapsedTime: 36.5 seconds RetCode: 0 Status: OK CheckDir: CNORfuzzy.Rcheck Warnings: 0