Package: CNORfeeder Version: 1.51.0 Command: /home/biocbuild/bbs-3.23-bioc/R/bin/R CMD build --keep-empty-dirs --no-resave-data CNORfeeder StartedAt: 2025-11-14 16:52:57 -0500 (Fri, 14 Nov 2025) EndedAt: 2025-11-14 16:53:10 -0500 (Fri, 14 Nov 2025) EllapsedTime: 13.0 seconds RetCode: 0 Status: OK PackageFile: CNORfeeder_1.51.0.tar.gz PackageFileSize: 3.435 MiB