Package: CNORfeeder Version: 1.51.0 Command: /Library/Frameworks/R.framework/Resources/bin/R CMD INSTALL CNORfeeder StartedAt: 2025-11-14 15:08:50 -0500 (Fri, 14 Nov 2025) EndedAt: 2025-11-14 15:08:54 -0500 (Fri, 14 Nov 2025) EllapsedTime: 3.9 seconds RetCode: 0 Status: OK