Package: CNORfeeder Version: 1.51.0 Command: /Library/Frameworks/R.framework/Resources/bin/R CMD build --keep-empty-dirs --no-resave-data CNORfeeder StartedAt: 2025-11-14 15:56:22 -0500 (Fri, 14 Nov 2025) EndedAt: 2025-11-14 15:56:29 -0500 (Fri, 14 Nov 2025) EllapsedTime: 7.1 seconds RetCode: 0 Status: OK PackageFile: CNORfeeder_1.51.0.tar.gz PackageFileSize: 3.435 MiB