Package: CNORfeeder Version: 1.51.0 Command: rm -rf CNORfeeder.buildbin-libdir && mkdir CNORfeeder.buildbin-libdir && /Users/biocbuild/BBS/utils/build-universal.sh CNORfeeder_1.51.0.tar.gz /Library/Frameworks/R.framework/Resources/bin/R CNORfeeder.buildbin-libdir StartedAt: 2025-11-14 23:27:26 -0500 (Fri, 14 Nov 2025) EndedAt: 2025-11-14 23:27:31 -0500 (Fri, 14 Nov 2025) EllapsedTime: 5.1 seconds RetCode: 0 Status: OK PackageFile: CNORfeeder_1.51.0.tgz PackageFileSize: 2.197 MiB