Package: CNORfeeder Version: 1.51.0 Maintainer: Attila Gabor MaintainerEmail: attila.gabor at uni-heidelberg.de git_url: https://git.bioconductor.org/packages/CNORfeeder git_branch: devel git_last_commit: ec6ad0e git_last_commit_date: 2025-10-29 10:14:15 -0500 (Wed, 29 Oct 2025)