Package: CNORdt Version: 1.53.0 Command: /home/biocbuild/bbs-3.23-bioc/R/bin/R CMD INSTALL CNORdt StartedAt: 2025-11-23 15:17:33 -0500 (Sun, 23 Nov 2025) EndedAt: 2025-11-23 15:17:42 -0500 (Sun, 23 Nov 2025) EllapsedTime: 8.4 seconds RetCode: 0 Status: OK