Package: CNORdt Version: 1.53.0 Command: /home/biocbuild/bbs-3.23-bioc/R/bin/R CMD build --keep-empty-dirs --no-resave-data CNORdt StartedAt: 2025-11-23 16:54:16 -0500 (Sun, 23 Nov 2025) EndedAt: 2025-11-23 16:54:59 -0500 (Sun, 23 Nov 2025) EllapsedTime: 43.0 seconds RetCode: 0 Status: OK PackageFile: CNORdt_1.53.0.tar.gz PackageFileSize: 319.3 KiB