Package: CNORdt Version: 1.53.0 Command: /Library/Frameworks/R.framework/Resources/bin/R CMD INSTALL CNORdt StartedAt: 2025-11-13 15:08:18 -0500 (Thu, 13 Nov 2025) EndedAt: 2025-11-13 15:08:21 -0500 (Thu, 13 Nov 2025) EllapsedTime: 3.9 seconds RetCode: 0 Status: OK