Package: CNORdt Version: 1.53.0 Command: /Library/Frameworks/R.framework/Resources/bin/R CMD build --keep-empty-dirs --no-resave-data CNORdt StartedAt: 2025-11-13 15:59:30 -0500 (Thu, 13 Nov 2025) EndedAt: 2025-11-13 15:59:55 -0500 (Thu, 13 Nov 2025) EllapsedTime: 25.3 seconds RetCode: 0 Status: OK PackageFile: CNORdt_1.53.0.tar.gz PackageFileSize: 319.4 KiB