Package: CNORdt Version: 1.53.0 Command: rm -rf CNORdt.buildbin-libdir && mkdir CNORdt.buildbin-libdir && /Users/biocbuild/BBS/utils/build-universal.sh CNORdt_1.53.0.tar.gz /Library/Frameworks/R.framework/Resources/bin/R CNORdt.buildbin-libdir StartedAt: 2025-11-13 23:32:21 -0500 (Thu, 13 Nov 2025) EndedAt: 2025-11-13 23:32:27 -0500 (Thu, 13 Nov 2025) EllapsedTime: 6.1 seconds RetCode: 0 Status: OK PackageFile: CNORdt_1.53.0.tgz PackageFileSize: 327 KiB