Package: CNORdt Version: 1.53.0 Maintainer: A. MacNamara MaintainerEmail: aidan.macnamara at ebi.ac.uk git_url: https://git.bioconductor.org/packages/CNORdt git_branch: devel git_last_commit: 1e21485 git_last_commit_date: 2025-10-29 10:12:22 -0500 (Wed, 29 Oct 2025)