Package: CMA Version: 1.69.0 Command: /home/biocbuild/bbs-3.23-bioc/R/bin/R CMD INSTALL CMA StartedAt: 2025-11-14 15:13:10 -0500 (Fri, 14 Nov 2025) EndedAt: 2025-11-14 15:13:22 -0500 (Fri, 14 Nov 2025) EllapsedTime: 12.6 seconds RetCode: 0 Status: OK