Package: CMA Version: 1.69.0 Command: /home/biocbuild/bbs-3.23-bioc/R/bin/R CMD build --keep-empty-dirs --no-resave-data CMA StartedAt: 2025-11-14 16:52:04 -0500 (Fri, 14 Nov 2025) EndedAt: 2025-11-14 16:52:31 -0500 (Fri, 14 Nov 2025) EllapsedTime: 26.0 seconds RetCode: 0 Status: OK PackageFile: CMA_1.69.0.tar.gz PackageFileSize: 1.21 MiB