Package: CMA Version: 1.69.0 Command: /Library/Frameworks/R.framework/Resources/bin/R CMD build --keep-empty-dirs --no-resave-data CMA StartedAt: 2025-11-13 15:59:07 -0500 (Thu, 13 Nov 2025) EndedAt: 2025-11-13 15:59:19 -0500 (Thu, 13 Nov 2025) EllapsedTime: 12.1 seconds RetCode: 0 Status: OK PackageFile: CMA_1.69.0.tar.gz PackageFileSize: 1.21 MiB