Package: CMA Version: 1.69.0 Command: rm -rf CMA.buildbin-libdir && mkdir CMA.buildbin-libdir && /Users/biocbuild/BBS/utils/build-universal.sh CMA_1.69.0.tar.gz /Library/Frameworks/R.framework/Resources/bin/R CMA.buildbin-libdir StartedAt: 2025-11-13 23:32:15 -0500 (Thu, 13 Nov 2025) EndedAt: 2025-11-13 23:32:21 -0500 (Thu, 13 Nov 2025) EllapsedTime: 6.1 seconds RetCode: 0 Status: OK PackageFile: CMA_1.69.0.tgz PackageFileSize: 1.902 MiB