Package: CMA Version: 1.69.0 Maintainer: Roman Hornung MaintainerEmail: hornung at ibe.med.uni-muenchen.de git_url: https://git.bioconductor.org/packages/CMA git_branch: devel git_last_commit: fdba720 git_last_commit_date: 2025-10-29 10:00:45 -0500 (Wed, 29 Oct 2025)