Package: CINdex Version: 1.37.2 Command: /home/biocbuild/bbs-3.23-bioc/R/bin/R CMD INSTALL CINdex StartedAt: 2025-10-22 21:10:25 -0000 (Wed, 22 Oct 2025) EndedAt: 2025-10-22 21:10:48 -0000 (Wed, 22 Oct 2025) EllapsedTime: 22.9 seconds RetCode: 0 Status: OK