Package: CINdex Version: 1.37.2 Command: /home/biocbuild/bbs-3.23-bioc/R/bin/R CMD build --keep-empty-dirs --no-resave-data CINdex StartedAt: 2025-10-22 22:26:33 -0000 (Wed, 22 Oct 2025) EndedAt: 2025-10-22 22:28:57 -0000 (Wed, 22 Oct 2025) EllapsedTime: 144.2 seconds RetCode: 1 Status: ERROR PackageFile: None PackageFileSize: NA