Package: CIMICE Version: 1.19.0 Command: /Library/Frameworks/R.framework/Resources/bin/R CMD INSTALL CIMICE StartedAt: 2025-11-14 15:06:53 -0500 (Fri, 14 Nov 2025) EndedAt: 2025-11-14 15:07:00 -0500 (Fri, 14 Nov 2025) EllapsedTime: 7.0 seconds RetCode: 0 Status: OK