Package: CIMICE Version: 1.19.0 Command: /Library/Frameworks/R.framework/Resources/bin/R CMD build --keep-empty-dirs --no-resave-data CIMICE StartedAt: 2025-11-14 15:54:22 -0500 (Fri, 14 Nov 2025) EndedAt: 2025-11-14 15:54:33 -0500 (Fri, 14 Nov 2025) EllapsedTime: 11.1 seconds RetCode: 0 Status: OK PackageFile: CIMICE_1.19.0.tar.gz PackageFileSize: 1.558 MiB