Package: CIMICE Version: 1.19.0 Command: rm -rf CIMICE.buildbin-libdir && mkdir CIMICE.buildbin-libdir && /Users/biocbuild/BBS/utils/build-universal.sh CIMICE_1.19.0.tar.gz /Library/Frameworks/R.framework/Resources/bin/R CIMICE.buildbin-libdir StartedAt: 2025-11-14 23:26:51 -0500 (Fri, 14 Nov 2025) EndedAt: 2025-11-14 23:26:57 -0500 (Fri, 14 Nov 2025) EllapsedTime: 6.2 seconds RetCode: 0 Status: OK PackageFile: CIMICE_1.19.0.tgz PackageFileSize: 1.282 MiB