Package: CIMICE Version: 1.19.0 Maintainer: Nicolò Rossi MaintainerEmail: olocin.issor at gmail.com git_url: https://git.bioconductor.org/packages/CIMICE git_branch: devel git_last_commit: 057a38f git_last_commit_date: 2025-10-29 11:07:23 -0500 (Wed, 29 Oct 2025)