Package: CHRONOS Version: 1.39.0 Command: /home/biocbuild/bbs-3.23-bioc/R/bin/R CMD INSTALL CHRONOS StartedAt: 2025-11-11 15:30:03 -0500 (Tue, 11 Nov 2025) EndedAt: 2025-11-11 15:30:24 -0500 (Tue, 11 Nov 2025) EllapsedTime: 20.9 seconds RetCode: 0 Status: OK