Package: CHRONOS Version: 1.39.0 Command: /home/biocbuild/bbs-3.23-bioc/R/bin/R CMD build --keep-empty-dirs --no-resave-data CHRONOS StartedAt: 2025-11-13 16:48:21 -0500 (Thu, 13 Nov 2025) EndedAt: 2025-11-13 16:48:52 -0500 (Thu, 13 Nov 2025) EllapsedTime: 31.0 seconds RetCode: 0 Status: OK PackageFile: CHRONOS_1.39.0.tar.gz PackageFileSize: 1.118 MiB