Package: CHRONOS Version: 1.39.0 Command: /Library/Frameworks/R.framework/Resources/bin/R CMD INSTALL CHRONOS StartedAt: 2025-11-13 15:09:02 -0500 (Thu, 13 Nov 2025) EndedAt: 2025-11-13 15:09:11 -0500 (Thu, 13 Nov 2025) EllapsedTime: 8.9 seconds RetCode: 0 Status: OK