Package: CHRONOS Version: 1.39.0 Command: /Library/Frameworks/R.framework/Resources/bin/R CMD build --keep-empty-dirs --no-resave-data CHRONOS StartedAt: 2025-11-13 15:57:19 -0500 (Thu, 13 Nov 2025) EndedAt: 2025-11-13 16:37:20 -0500 (Thu, 13 Nov 2025) EllapsedTime: 2400.4 seconds RetCode: None Status: TIMEOUT PackageFile: None PackageFileSize: NA