Package: CHRONOS Version: 1.39.0 Maintainer: Panos Balomenos MaintainerEmail: balomenos at upatras.gr git_url: https://git.bioconductor.org/packages/CHRONOS git_branch: devel git_last_commit: 5dec64b git_last_commit_date: 2025-10-29 10:32:09 -0500 (Wed, 29 Oct 2025)