Package: CHETAH Version: 1.27.0 Command: /Library/Frameworks/R.framework/Resources/bin/R CMD INSTALL CHETAH StartedAt: 2025-11-21 15:30:19 -0500 (Fri, 21 Nov 2025) EndedAt: 2025-11-21 15:30:30 -0500 (Fri, 21 Nov 2025) EllapsedTime: 11.6 seconds RetCode: 0 Status: OK