Package: CHETAH Version: 1.27.0 Command: /Library/Frameworks/R.framework/Resources/bin/R CMD build --keep-empty-dirs --no-resave-data CHETAH StartedAt: 2025-11-21 15:52:30 -0500 (Fri, 21 Nov 2025) EndedAt: 2025-11-21 15:52:56 -0500 (Fri, 21 Nov 2025) EllapsedTime: 26.3 seconds RetCode: 0 Status: OK PackageFile: CHETAH_1.27.0.tar.gz PackageFileSize: 3.58 MiB